BEGIN:VCALENDAR
VERSION:2.0
CALSCALE:GREGORIAN
PRODID:-//Diputació de Barcelona//DibaCMS//EN
BEGIN:VEVENT
UID:8889
DTSTAMP:20260421T003212
DTSTART:20210208T000000
DTEND:20210208T210000
SUMMARY:Recollida Porta a Porta Fracció Vegetal
LOCATION:
METHOD:PUBLISH
X-WR-CALNAME:vallgorguina@vallgorguina.cat
X-WR-TIMEZONE:Europe/Madrid
DESCRIPTION:
URI:https://www.vallgorguina.cat/actualitat/agenda/recollida-porta-a-porta-fraccio-vegetal.html
CLASS:PUBLIC
END:VEVENT
END:VCALENDAR
