BEGIN:VCALENDAR
VERSION:2.0
CALSCALE:GREGORIAN
PRODID:-//Diputació de Barcelona//DibaCMS//EN
BEGIN:VEVENT
UID:889
DTSTAMP:20260423T064030
DTSTART:20180608T190000
DTEND:20180608T200000
SUMMARY:Reunió informativa de les subvencions per a les entitats culturals i esportives
LOCATION:
METHOD:PUBLISH
X-WR-CALNAME:vallgorguina@vallgorguina.cat
X-WR-TIMEZONE:Europe/Madrid
DESCRIPTION:
URI:https://www.vallgorguina.cat/actualitat/agenda/reunio-informativa-de-les-subvencions-per-a-les-entitats-culturals-i-esportives.html
CLASS:PUBLIC
END:VEVENT
END:VCALENDAR
