BEGIN:VCALENDAR
VERSION:2.0
CALSCALE:GREGORIAN
PRODID:-//Diputació de Barcelona//DibaCMS//EN
BEGIN:VEVENT
UID:8896
DTSTAMP:20260421T004209
DTSTART:20210219T100000
DTEND:20210220T200000
SUMMARY:Portes Obertes Escola Waldorf de Vallgorguina
LOCATION:
METHOD:PUBLISH
X-WR-CALNAME:vallgorguina@vallgorguina.cat
X-WR-TIMEZONE:Europe/Madrid
DESCRIPTION:
URI:https://www.vallgorguina.cat/actualitat/agenda/8896-portes-obertes-escola-waldorf-de-vallgorguina.html
CLASS:PUBLIC
END:VEVENT
END:VCALENDAR
