BEGIN:VCALENDAR
VERSION:2.0
CALSCALE:GREGORIAN
PRODID:-//Diputació de Barcelona//DibaCMS//EN
BEGIN:VEVENT
UID:8898
DTSTAMP:20260421T025008
DTSTART:20210223T170000
DTEND:20210223T200000
SUMMARY:Jornada de Portes Obertes  Escola Vallgorguina
LOCATION:
METHOD:PUBLISH
X-WR-CALNAME:vallgorguina@vallgorguina.cat
X-WR-TIMEZONE:Europe/Madrid
DESCRIPTION:
URI:https://www.vallgorguina.cat/actualitat/agenda/8898-jornada-de-portes-obertes-escola-vallgorguina.html
CLASS:PUBLIC
END:VEVENT
END:VCALENDAR
