BEGIN:VCALENDAR
VERSION:2.0
CALSCALE:GREGORIAN
PRODID:-//Diputació de Barcelona//DibaCMS//EN
BEGIN:VEVENT
UID:891
DTSTAMP:20260423T081446
DTSTART:20180608T190000
DTEND:20180608T203000
SUMMARY:Sessió de treball per les entitats: subvencions
LOCATION:
METHOD:PUBLISH
X-WR-CALNAME:vallgorguina@vallgorguina.cat
X-WR-TIMEZONE:Europe/Madrid
DESCRIPTION:
URI:https://www.vallgorguina.cat/actualitat/agenda/sessio-de-treball-per-les-entitats-subvencions.html
CLASS:PUBLIC
END:VEVENT
END:VCALENDAR
