BEGIN:VCALENDAR
VERSION:2.0
CALSCALE:GREGORIAN
PRODID:-//Diputació de Barcelona//DibaCMS//EN
BEGIN:VEVENT
UID:8917
DTSTAMP:20260421T055437
DTSTART:20210307T000000
DTEND:20210307T000000
SUMMARY:Campanya de donació de sang
LOCATION:
METHOD:PUBLISH
X-WR-CALNAME:vallgorguina@vallgorguina.cat
X-WR-TIMEZONE:Europe/Madrid
DESCRIPTION:Diumenge 7 de març

Sala d'Exposicions (aparcament asfaltat)

De 10 a 14 h

Reserva hora a: donarsang.gencat.cat

URI:https://www.vallgorguina.cat/actualitat/agenda/campanya-de-donacio-de-sang.html
CLASS:PUBLIC
END:VEVENT
END:VCALENDAR
