BEGIN:VCALENDAR
VERSION:2.0
CALSCALE:GREGORIAN
PRODID:-//Diputació de Barcelona//DibaCMS//EN
BEGIN:VEVENT
UID:8930
DTSTAMP:20260421T100042
DTSTART:20210406T000000
DTEND:20210406T000000
SUMMARY:Raconet
LOCATION:
METHOD:PUBLISH
X-WR-CALNAME:vallgorguina@vallgorguina.cat
X-WR-TIMEZONE:Europe/Madrid
DESCRIPTION:Recollida de Voluminosos

URI:https://www.vallgorguina.cat/actualitat/agenda/8930-raconet.html
CLASS:PUBLIC
END:VEVENT
END:VCALENDAR
