BEGIN:VCALENDAR
VERSION:2.0
CALSCALE:GREGORIAN
PRODID:-//Diputació de Barcelona//DibaCMS//EN
BEGIN:VEVENT
UID:8948
DTSTAMP:20260421T041312
DTSTART:20210316T160000
DTEND:20210316T183000
SUMMARY:Bibliobús
LOCATION:
METHOD:PUBLISH
X-WR-CALNAME:vallgorguina@vallgorguina.cat
X-WR-TIMEZONE:Europe/Madrid
DESCRIPTION:Els dimarts 2 i 16 de març de 2021 està programada una nova visita del BiblioBus de la Diputació de Barcelona per acostar la cultura a Vallgorguina, des de les 16:00 h fins les 18:30 h.

Els horaris poden veure's modificats a causa de la situació sanitària. Totes les actualitzacions es poden consultar a bibliotecavirtual.diba.cat

S'agrairà demanar amb antelació el que es necessita. També es preparen lots sorpresa per a infants. b.montnegre@diba.cat

URI:https://www.vallgorguina.cat/actualitat/agenda/8948-bibliobus.html
CLASS:PUBLIC
END:VEVENT
END:VCALENDAR
