BEGIN:VCALENDAR
VERSION:2.0
CALSCALE:GREGORIAN
PRODID:-//Diputació de Barcelona//DibaCMS//EN
BEGIN:VEVENT
UID:8953
DTSTAMP:20260421T063431
DTSTART:20210327T000000
DTEND:20210327T000000
SUMMARY:Tast guiat de cerveses artesanes
LOCATION:
METHOD:PUBLISH
X-WR-CALNAME:vallgorguina@vallgorguina.cat
X-WR-TIMEZONE:Europe/Madrid
DESCRIPTION:
URI:https://www.vallgorguina.cat/actualitat/agenda/tast-guiat-de-cerveses-artesanes.html
CLASS:PUBLIC
END:VEVENT
END:VCALENDAR
