BEGIN:VCALENDAR
VERSION:2.0
CALSCALE:GREGORIAN
PRODID:-//Diputació de Barcelona//DibaCMS//EN
BEGIN:VEVENT
UID:8954
DTSTAMP:20260421T041231
DTSTART:20210317T100000
DTEND:20210317T103000
SUMMARY:Curs de defensa personal femenina
LOCATION:
METHOD:PUBLISH
X-WR-CALNAME:vallgorguina@vallgorguina.cat
X-WR-TIMEZONE:Europe/Madrid
DESCRIPTION:
URI:https://www.vallgorguina.cat/actualitat/agenda/curs-de-defensa-personal-femenina.html
CLASS:PUBLIC
END:VEVENT
END:VCALENDAR
