BEGIN:VCALENDAR
VERSION:2.0
CALSCALE:GREGORIAN
PRODID:-//Diputació de Barcelona//DibaCMS//EN
BEGIN:VEVENT
UID:8958
DTSTAMP:20260421T041505
DTSTART:20210313T000000
DTEND:20210314T000000
SUMMARY:Documental «Les Resilients», com flors després d'un  incendi
LOCATION:
METHOD:PUBLISH
X-WR-CALNAME:vallgorguina@vallgorguina.cat
X-WR-TIMEZONE:Europe/Madrid
DESCRIPTION:
URI:https://www.vallgorguina.cat/actualitat/agenda/8958-documental-les-resilients-com-flors-despres-dun-incendi.html
CLASS:PUBLIC
END:VEVENT
END:VCALENDAR
