BEGIN:VCALENDAR
VERSION:2.0
CALSCALE:GREGORIAN
PRODID:-//Diputació de Barcelona//DibaCMS//EN
BEGIN:VEVENT
UID:8967
DTSTAMP:20260421T081441
DTSTART:20210405T000000
DTEND:20210405T235500
SUMMARY:Excursió al Corredor
LOCATION:
METHOD:PUBLISH
X-WR-CALNAME:vallgorguina@vallgorguina.cat
X-WR-TIMEZONE:Europe/Madrid
DESCRIPTION:
URI:https://www.vallgorguina.cat/actualitat/agenda/8967-excursio-al-corredor.html
CLASS:PUBLIC
END:VEVENT
END:VCALENDAR
