BEGIN:VCALENDAR
VERSION:2.0
CALSCALE:GREGORIAN
PRODID:-//Diputació de Barcelona//DibaCMS//EN
BEGIN:VEVENT
UID:8981
DTSTAMP:20260421T063800
DTSTART:20210412T000000
DTEND:20210412T235500
SUMMARY:Recollida de fracció vegetal abril i maig
LOCATION:
METHOD:PUBLISH
X-WR-CALNAME:vallgorguina@vallgorguina.cat
X-WR-TIMEZONE:Europe/Madrid
DESCRIPTION:
URI:https://www.vallgorguina.cat/actualitat/agenda/recollida-de-fraccio-vegetal-abril-i-maig.html
CLASS:PUBLIC
END:VEVENT
END:VCALENDAR
