BEGIN:VCALENDAR
VERSION:2.0
CALSCALE:GREGORIAN
PRODID:-//Diputació de Barcelona//DibaCMS//EN
BEGIN:VEVENT
UID:8982
DTSTAMP:20260421T101913
DTSTART:20210426T000000
DTEND:20210426T230000
SUMMARY:Recollida de fracció vegetal abril i maig 2021
LOCATION:
METHOD:PUBLISH
X-WR-CALNAME:vallgorguina@vallgorguina.cat
X-WR-TIMEZONE:Europe/Madrid
DESCRIPTION:
URI:https://www.vallgorguina.cat/actualitat/agenda/recollida-de-fraccio-vegetal-abril-i-maig-2021.html
CLASS:PUBLIC
END:VEVENT
END:VCALENDAR
