BEGIN:VCALENDAR
VERSION:2.0
CALSCALE:GREGORIAN
PRODID:-//Diputació de Barcelona//DibaCMS//EN
BEGIN:VEVENT
UID:8983
DTSTAMP:20260423T123117
DTSTART:20210510T000000
DTEND:20210510T230000
SUMMARY:Recollida fracció vegetal maig 2021
LOCATION:
METHOD:PUBLISH
X-WR-CALNAME:vallgorguina@vallgorguina.cat
X-WR-TIMEZONE:Europe/Madrid
DESCRIPTION:
URI:https://www.vallgorguina.cat/actualitat/agenda/8983-recollida-fraccio-vegetal-maig-2021.html
CLASS:PUBLIC
END:VEVENT
END:VCALENDAR
