BEGIN:VCALENDAR
VERSION:2.0
CALSCALE:GREGORIAN
PRODID:-//Diputació de Barcelona//DibaCMS//EN
BEGIN:VEVENT
UID:8986
DTSTAMP:20260421T115655
DTSTART:20210328T103000
DTEND:20210328T133000
SUMMARY:Actes religiosos Setmana Santa
LOCATION:
METHOD:PUBLISH
X-WR-CALNAME:vallgorguina@vallgorguina.cat
X-WR-TIMEZONE:Europe/Madrid
DESCRIPTION:
URI:https://www.vallgorguina.cat/actualitat/agenda/actes-religiosos-setmana-santa.html
CLASS:PUBLIC
END:VEVENT
END:VCALENDAR
