BEGIN:VCALENDAR
VERSION:2.0
CALSCALE:GREGORIAN
PRODID:-//Diputació de Barcelona//DibaCMS//EN
BEGIN:VEVENT
UID:8987
DTSTAMP:20260421T061643
DTSTART:20210401T180000
DTEND:20210401T210000
SUMMARY:Actes religiosos Setmana Santa
LOCATION:
METHOD:PUBLISH
X-WR-CALNAME:vallgorguina@vallgorguina.cat
X-WR-TIMEZONE:Europe/Madrid
DESCRIPTION:
URI:https://www.vallgorguina.cat/actualitat/agenda/8987-actes-religiosos-setmana-santa.html
CLASS:PUBLIC
END:VEVENT
END:VCALENDAR
