BEGIN:VCALENDAR
VERSION:2.0
CALSCALE:GREGORIAN
PRODID:-//Diputació de Barcelona//DibaCMS//EN
BEGIN:VEVENT
UID:8993
DTSTAMP:20260421T114145
DTSTART:20210420T160000
DTEND:20210420T183000
SUMMARY:Visita del Bibliobús Montnegre a Vallgorguina el mes d'abril de 2021 
LOCATION:
METHOD:PUBLISH
X-WR-CALNAME:vallgorguina@vallgorguina.cat
X-WR-TIMEZONE:Europe/Madrid
DESCRIPTION:
URI:https://www.vallgorguina.cat/actualitat/agenda/visita-del-bibliobus-montnegre-a-vallgorguina-el-mes-dabril-de-2021-.html
CLASS:PUBLIC
END:VEVENT
END:VCALENDAR
