BEGIN:VCALENDAR
VERSION:2.0
CALSCALE:GREGORIAN
PRODID:-//Diputació de Barcelona//DibaCMS//EN
BEGIN:VEVENT
UID:8998
DTSTAMP:20260421T101105
DTSTART:20210429T190000
DTEND:20210429T201500
SUMMARY:Seminari en línia - Què fer davant del soroll?
LOCATION:
METHOD:PUBLISH
X-WR-CALNAME:vallgorguina@vallgorguina.cat
X-WR-TIMEZONE:Europe/Madrid
DESCRIPTION:
URI:https://www.vallgorguina.cat/actualitat/agenda/seminari-en-linia-que-fer-davant-del-soroll.html
CLASS:PUBLIC
END:VEVENT
END:VCALENDAR
