BEGIN:VCALENDAR
VERSION:2.0
CALSCALE:GREGORIAN
PRODID:-//Diputació de Barcelona//DibaCMS//EN
BEGIN:VEVENT
UID:9007
DTSTAMP:20260421T081417
DTSTART:20210415T000000
DTEND:20210430T225500
SUMMARY:Concurs de Microrelats Sant Jordi 2021
LOCATION:
METHOD:PUBLISH
X-WR-CALNAME:vallgorguina@vallgorguina.cat
X-WR-TIMEZONE:Europe/Madrid
DESCRIPTION:
URI:https://www.vallgorguina.cat/actualitat/agenda/concurs-de-microrelats-sant-jordi-2021.html
CLASS:PUBLIC
END:VEVENT
END:VCALENDAR
