BEGIN:VCALENDAR
VERSION:2.0
CALSCALE:GREGORIAN
PRODID:-//Diputació de Barcelona//DibaCMS//EN
BEGIN:VEVENT
UID:9012
DTSTAMP:20260421T152541
DTSTART:20210412T000000
DTEND:20210430T000000
SUMMARY:Portes obertes a l'Escola Bressol Avet Blau
LOCATION:
METHOD:PUBLISH
X-WR-CALNAME:vallgorguina@vallgorguina.cat
X-WR-TIMEZONE:Europe/Madrid
DESCRIPTION:
URI:https://www.vallgorguina.cat/actualitat/agenda/portes-obertes-a-lescola-bressol-avet-blau.html
CLASS:PUBLIC
END:VEVENT
END:VCALENDAR
