BEGIN:VCALENDAR
VERSION:2.0
CALSCALE:GREGORIAN
PRODID:-//Diputació de Barcelona//DibaCMS//EN
BEGIN:VEVENT
UID:9018
DTSTAMP:20260421T100342
DTSTART:20210414T000000
DTEND:20210425T235500
SUMMARY:Dibuix Infantil i Juvenil Sant Jordi 2021
LOCATION:
METHOD:PUBLISH
X-WR-CALNAME:vallgorguina@vallgorguina.cat
X-WR-TIMEZONE:Europe/Madrid
DESCRIPTION:
URI:https://www.vallgorguina.cat/actualitat/agenda/9018-dibuix-infantil-i-juvenil-sant-jordi-2021.html
CLASS:PUBLIC
END:VEVENT
END:VCALENDAR
