BEGIN:VCALENDAR
VERSION:2.0
CALSCALE:GREGORIAN
PRODID:-//Diputació de Barcelona//DibaCMS//EN
BEGIN:VEVENT
UID:9028
DTSTAMP:20260421T084323
DTSTART:20210423T100000
DTEND:20210423T121500
SUMMARY:Sant Jordi alumnat 6è de l'Escola Vallgorguina
LOCATION:
METHOD:PUBLISH
X-WR-CALNAME:vallgorguina@vallgorguina.cat
X-WR-TIMEZONE:Europe/Madrid
DESCRIPTION:
URI:https://www.vallgorguina.cat/actualitat/agenda/sant-jordi-alumnat-6e-de-lescola-vallgorguina.html
CLASS:PUBLIC
END:VEVENT
END:VCALENDAR
