BEGIN:VCALENDAR
VERSION:2.0
CALSCALE:GREGORIAN
PRODID:-//Diputació de Barcelona//DibaCMS//EN
BEGIN:VEVENT
UID:9040
DTSTAMP:20260421T134615
DTSTART:20210428T100000
DTEND:20210507T000000
SUMMARY:Netegem entre tots i totes l'entorn de l'Escola Bressol i l'Escola Vallgorguina
LOCATION:
METHOD:PUBLISH
X-WR-CALNAME:vallgorguina@vallgorguina.cat
X-WR-TIMEZONE:Europe/Madrid
DESCRIPTION:
URI:https://www.vallgorguina.cat/actualitat/agenda/9040-netegem-entre-tots-i-totes-lentorn-de-lescola-bressol-i-lescola-vallgorguina.html
CLASS:PUBLIC
END:VEVENT
END:VCALENDAR
