BEGIN:VCALENDAR
VERSION:2.0
CALSCALE:GREGORIAN
PRODID:-//Diputació de Barcelona//DibaCMS//EN
BEGIN:VEVENT
UID:9043
DTSTAMP:20260421T100242
DTSTART:20210504T000000
DTEND:20210504T235900
SUMMARY:RacoNet dels mesos maig i juny 2021
LOCATION:
METHOD:PUBLISH
X-WR-CALNAME:vallgorguina@vallgorguina.cat
X-WR-TIMEZONE:Europe/Madrid
DESCRIPTION:
URI:https://www.vallgorguina.cat/actualitat/agenda/raconet-dels-mesos-maig-i-juny-2021.html
CLASS:PUBLIC
END:VEVENT
END:VCALENDAR
