BEGIN:VCALENDAR
VERSION:2.0
CALSCALE:GREGORIAN
PRODID:-//Diputació de Barcelona//DibaCMS//EN
BEGIN:VEVENT
UID:9045
DTSTAMP:20260421T115746
DTSTART:20210510T000000
DTEND:20210521T000000
SUMMARY:Preinscripció Escola Bressol Municipal
LOCATION:
METHOD:PUBLISH
X-WR-CALNAME:vallgorguina@vallgorguina.cat
X-WR-TIMEZONE:Europe/Madrid
DESCRIPTION:
URI:https://www.vallgorguina.cat/actualitat/agenda/preinscripcio-escola-bressol-municipal.html
CLASS:PUBLIC
END:VEVENT
END:VCALENDAR
