BEGIN:VCALENDAR
VERSION:2.0
CALSCALE:GREGORIAN
PRODID:-//Diputació de Barcelona//DibaCMS//EN
BEGIN:VEVENT
UID:9053
DTSTAMP:20260423T123731
DTSTART:20210522T090000
DTEND:20210522T160000
SUMMARY:Ruta del patrimoni: Excursió a les masies de Vallgorguina
LOCATION:
METHOD:PUBLISH
X-WR-CALNAME:vallgorguina@vallgorguina.cat
X-WR-TIMEZONE:Europe/Madrid
DESCRIPTION:
URI:https://www.vallgorguina.cat/actualitat/agenda/ruta-del-patrimoni-excursio-a-les-masies-de-vallgorguina.html
CLASS:PUBLIC
END:VEVENT
END:VCALENDAR
