BEGIN:VCALENDAR
VERSION:2.0
CALSCALE:GREGORIAN
PRODID:-//Diputació de Barcelona//DibaCMS//EN
BEGIN:VEVENT
UID:9056
DTSTAMP:20260421T102034
DTSTART:20210518T160000
DTEND:20210518T183000
SUMMARY:Visita del Bibliobús maig 2021 
LOCATION:
METHOD:PUBLISH
X-WR-CALNAME:vallgorguina@vallgorguina.cat
X-WR-TIMEZONE:Europe/Madrid
DESCRIPTION:
URI:https://www.vallgorguina.cat/actualitat/agenda/visita-del-bibliobus-maig-2021-.html
CLASS:PUBLIC
END:VEVENT
END:VCALENDAR
