BEGIN:VCALENDAR
VERSION:2.0
CALSCALE:GREGORIAN
PRODID:-//Diputació de Barcelona//DibaCMS//EN
BEGIN:VEVENT
UID:9071
DTSTAMP:20260421T154113
DTSTART:20210601T160000
DTEND:20210601T180000
SUMMARY:Bibliobús a Vallgorguina
LOCATION:
METHOD:PUBLISH
X-WR-CALNAME:vallgorguina@vallgorguina.cat
X-WR-TIMEZONE:Europe/Madrid
DESCRIPTION:
URI:https://www.vallgorguina.cat/actualitat/agenda/9071-bibliobus-a-vallgorguina.html
CLASS:PUBLIC
END:VEVENT
END:VCALENDAR
