BEGIN:VCALENDAR
VERSION:2.0
CALSCALE:GREGORIAN
PRODID:-//Diputació de Barcelona//DibaCMS//EN
BEGIN:VEVENT
UID:9081
DTSTAMP:20260421T154057
DTSTART:20210530T090000
DTEND:20210530T150000
SUMMARY:Setmana de la natura: Neteja de la riera
LOCATION:
METHOD:PUBLISH
X-WR-CALNAME:vallgorguina@vallgorguina.cat
X-WR-TIMEZONE:Europe/Madrid
DESCRIPTION:
URI:https://www.vallgorguina.cat/actualitat/agenda/setmana-de-la-natura-neteja-de-la-riera.html
CLASS:PUBLIC
END:VEVENT
END:VCALENDAR
