BEGIN:VCALENDAR
VERSION:2.0
CALSCALE:GREGORIAN
PRODID:-//Diputació de Barcelona//DibaCMS//EN
BEGIN:VEVENT
UID:9086
DTSTAMP:20260423T143900
DTSTART:20210612T000000
DTEND:20210613T235500
SUMMARY:4t Petit Festival de Vallgorguina. Música&Poesia
LOCATION:
METHOD:PUBLISH
X-WR-CALNAME:vallgorguina@vallgorguina.cat
X-WR-TIMEZONE:Europe/Madrid
DESCRIPTION:
URI:https://www.vallgorguina.cat/actualitat/agenda/4t-petit-festival-de-vallgorguina-musicaandpoesia.html
CLASS:PUBLIC
END:VEVENT
END:VCALENDAR
