BEGIN:VCALENDAR
VERSION:2.0
CALSCALE:GREGORIAN
PRODID:-//Diputació de Barcelona//DibaCMS//EN
BEGIN:VEVENT
UID:9087
DTSTAMP:20260423T122635
DTSTART:20210606T113000
DTEND:20210606T130000
SUMMARY:Jornada solidària amb Rwanda
LOCATION:
METHOD:PUBLISH
X-WR-CALNAME:vallgorguina@vallgorguina.cat
X-WR-TIMEZONE:Europe/Madrid
DESCRIPTION:
URI:https://www.vallgorguina.cat/actualitat/agenda/jornada-solidaria-amb-rwanda.html
CLASS:PUBLIC
END:VEVENT
END:VCALENDAR
