BEGIN:VCALENDAR
VERSION:2.0
CALSCALE:GREGORIAN
PRODID:-//Diputació de Barcelona//DibaCMS//EN
BEGIN:VEVENT
UID:9108
DTSTAMP:20260421T175302
DTSTART:20210703T000000
DTEND:20210703T230000
SUMMARY:Festa Major de Can Puigdemir 2021
LOCATION:
METHOD:PUBLISH
X-WR-CALNAME:vallgorguina@vallgorguina.cat
X-WR-TIMEZONE:Europe/Madrid
DESCRIPTION:
URI:https://www.vallgorguina.cat/actualitat/agenda/festa-major-de-can-puigdemir-2021.html
CLASS:PUBLIC
END:VEVENT
END:VCALENDAR
