BEGIN:VCALENDAR
VERSION:2.0
CALSCALE:GREGORIAN
PRODID:-//Diputació de Barcelona//DibaCMS//EN
BEGIN:VEVENT
UID:9110
DTSTAMP:20260421T233037
DTSTART:20210717T120000
DTEND:20210717T140000
SUMMARY:Benedicció de la Mare de Déu de Montserrat
LOCATION:
METHOD:PUBLISH
X-WR-CALNAME:vallgorguina@vallgorguina.cat
X-WR-TIMEZONE:Europe/Madrid
DESCRIPTION:
URI:https://www.vallgorguina.cat/actualitat/agenda/benediccio-de-la-mare-de-deu-de-montserrat.html
CLASS:PUBLIC
END:VEVENT
END:VCALENDAR
