BEGIN:VCALENDAR
VERSION:2.0
CALSCALE:GREGORIAN
PRODID:-//Diputació de Barcelona//DibaCMS//EN
BEGIN:VEVENT
UID:9115
DTSTAMP:20260421T174534
DTSTART:20210617T190000
DTEND:20210617T200000
SUMMARY:Jornada de portes obertes al FC Vallgorguina
LOCATION:
METHOD:PUBLISH
X-WR-CALNAME:vallgorguina@vallgorguina.cat
X-WR-TIMEZONE:Europe/Madrid
DESCRIPTION:
URI:https://www.vallgorguina.cat/actualitat/agenda/jornada-de-portes-obertes-al-fc-vallgorguina.html
CLASS:PUBLIC
END:VEVENT
END:VCALENDAR
