BEGIN:VCALENDAR
VERSION:2.0
CALSCALE:GREGORIAN
PRODID:-//Diputació de Barcelona//DibaCMS//EN
BEGIN:VEVENT
UID:9116
DTSTAMP:20260421T174620
DTSTART:20210622T180000
DTEND:20210622T200000
SUMMARY:Jornada de portes obertes al FC Vallgorguina
LOCATION:
METHOD:PUBLISH
X-WR-CALNAME:vallgorguina@vallgorguina.cat
X-WR-TIMEZONE:Europe/Madrid
DESCRIPTION:
URI:https://www.vallgorguina.cat/actualitat/agenda/9116-jornada-de-portes-obertes-al-fc-vallgorguina.html
CLASS:PUBLIC
END:VEVENT
END:VCALENDAR
