BEGIN:VCALENDAR
VERSION:2.0
CALSCALE:GREGORIAN
PRODID:-//Diputació de Barcelona//DibaCMS//EN
BEGIN:VEVENT
UID:9120
DTSTAMP:20260421T175143
DTSTART:20210623T180000
DTEND:20210623T203000
SUMMARY:Flama del Canigó 2021
LOCATION:
METHOD:PUBLISH
X-WR-CALNAME:vallgorguina@vallgorguina.cat
X-WR-TIMEZONE:Europe/Madrid
DESCRIPTION:
URI:https://www.vallgorguina.cat/actualitat/agenda/flama-del-canigo-2021.html
CLASS:PUBLIC
END:VEVENT
END:VCALENDAR
