BEGIN:VCALENDAR
VERSION:2.0
CALSCALE:GREGORIAN
PRODID:-//Diputació de Barcelona//DibaCMS//EN
BEGIN:VEVENT
UID:9122
DTSTAMP:20260421T234743
DTSTART:20210720T000000
DTEND:20210720T120000
SUMMARY:Raconet voluminosos juliol 2021 
LOCATION:
METHOD:PUBLISH
X-WR-CALNAME:vallgorguina@vallgorguina.cat
X-WR-TIMEZONE:Europe/Madrid
DESCRIPTION:
URI:https://www.vallgorguina.cat/actualitat/agenda/raconet-voluminosos-juliol-2021-.html
CLASS:PUBLIC
END:VEVENT
END:VCALENDAR
