BEGIN:VCALENDAR
VERSION:2.0
CALSCALE:GREGORIAN
PRODID:-//Diputació de Barcelona//DibaCMS//EN
BEGIN:VEVENT
UID:9126
DTSTAMP:20260421T174816
DTSTART:20210620T170000
DTEND:20210620T190000
SUMMARY:Concert de fi de curs
LOCATION:
METHOD:PUBLISH
X-WR-CALNAME:vallgorguina@vallgorguina.cat
X-WR-TIMEZONE:Europe/Madrid
DESCRIPTION:
URI:https://www.vallgorguina.cat/actualitat/agenda/concert-de-fi-de-curs.html
CLASS:PUBLIC
END:VEVENT
END:VCALENDAR
