BEGIN:VCALENDAR
VERSION:2.0
CALSCALE:GREGORIAN
PRODID:-//Diputació de Barcelona//DibaCMS//EN
BEGIN:VEVENT
UID:9137
DTSTAMP:20260421T174354
DTSTART:20210629T180000
DTEND:20210831T000000
SUMMARY:Exposició itinerant «Parc del Montnegre i el Corredor»
LOCATION:
METHOD:PUBLISH
X-WR-CALNAME:vallgorguina@vallgorguina.cat
X-WR-TIMEZONE:Europe/Madrid
DESCRIPTION:
URI:https://www.vallgorguina.cat/actualitat/agenda/exposicio-itinerant-parc-del-montnegre-i-el-corredor.html
CLASS:PUBLIC
END:VEVENT
END:VCALENDAR
