BEGIN:VCALENDAR
VERSION:2.0
CALSCALE:GREGORIAN
PRODID:-//Diputació de Barcelona//DibaCMS//EN
BEGIN:VEVENT
UID:9139
DTSTAMP:20260421T194941
DTSTART:20210723T220000
DTEND:20210723T235500
SUMMARY:Caminada sota la lluna 2021
LOCATION:
METHOD:PUBLISH
X-WR-CALNAME:vallgorguina@vallgorguina.cat
X-WR-TIMEZONE:Europe/Madrid
DESCRIPTION:
URI:https://www.vallgorguina.cat/actualitat/agenda/caminada-sota-la-lluna-2021.html
CLASS:PUBLIC
END:VEVENT
END:VCALENDAR
