BEGIN:VCALENDAR
VERSION:2.0
CALSCALE:GREGORIAN
PRODID:-//Diputació de Barcelona//DibaCMS//EN
BEGIN:VEVENT
UID:9140
DTSTAMP:20260421T201432
DTSTART:20210717T220000
DTEND:20210717T234500
SUMMARY:Cinema a la fresca
LOCATION:
METHOD:PUBLISH
X-WR-CALNAME:vallgorguina@vallgorguina.cat
X-WR-TIMEZONE:Europe/Madrid
DESCRIPTION:
URI:https://www.vallgorguina.cat/actualitat/agenda/9140-cinema-a-la-fresca.html
CLASS:PUBLIC
END:VEVENT
END:VCALENDAR
