BEGIN:VCALENDAR
VERSION:2.0
CALSCALE:GREGORIAN
PRODID:-//Diputació de Barcelona//DibaCMS//EN
BEGIN:VEVENT
UID:9144
DTSTAMP:20260421T194908
DTSTART:20210724T220000
DTEND:20210724T235900
SUMMARY:Concert “The Karlberts” 
LOCATION:
METHOD:PUBLISH
X-WR-CALNAME:vallgorguina@vallgorguina.cat
X-WR-TIMEZONE:Europe/Madrid
DESCRIPTION:
URI:https://www.vallgorguina.cat/actualitat/agenda/concert-the-karlberts-.html
CLASS:PUBLIC
END:VEVENT
END:VCALENDAR
