BEGIN:VCALENDAR
VERSION:2.0
CALSCALE:GREGORIAN
PRODID:-//Diputació de Barcelona//DibaCMS//EN
BEGIN:VEVENT
UID:9147
DTSTAMP:20260422T000231
DTSTART:20210807T220000
DTEND:20210807T235500
SUMMARY:Concert “DQuestion” 
LOCATION:
METHOD:PUBLISH
X-WR-CALNAME:vallgorguina@vallgorguina.cat
X-WR-TIMEZONE:Europe/Madrid
DESCRIPTION:
URI:https://www.vallgorguina.cat/actualitat/agenda/concert-dquestion-.html
CLASS:PUBLIC
END:VEVENT
END:VCALENDAR
