BEGIN:VCALENDAR
VERSION:2.0
CALSCALE:GREGORIAN
PRODID:-//Diputació de Barcelona//DibaCMS//EN
BEGIN:VEVENT
UID:9153
DTSTAMP:20260421T201359
DTSTART:20210706T160000
DTEND:20210706T180000
SUMMARY:Bibliobús a Vallgorguina  
LOCATION:
METHOD:PUBLISH
X-WR-CALNAME:vallgorguina@vallgorguina.cat
X-WR-TIMEZONE:Europe/Madrid
DESCRIPTION:
URI:https://www.vallgorguina.cat/actualitat/agenda/9153-bibliobus-a-vallgorguina-.html
CLASS:PUBLIC
END:VEVENT
END:VCALENDAR
