BEGIN:VCALENDAR
VERSION:2.0
CALSCALE:GREGORIAN
PRODID:-//Diputació de Barcelona//DibaCMS//EN
BEGIN:VEVENT
UID:9154
DTSTAMP:20260421T201616
DTSTART:20210712T200000
DTEND:20210712T211500
SUMMARY:Ioga a la natura  
LOCATION:
METHOD:PUBLISH
X-WR-CALNAME:vallgorguina@vallgorguina.cat
X-WR-TIMEZONE:Europe/Madrid
DESCRIPTION:
URI:https://www.vallgorguina.cat/actualitat/agenda/9154-ioga-a-la-natura-.html
CLASS:PUBLIC
END:VEVENT
END:VCALENDAR
