BEGIN:VCALENDAR
VERSION:2.0
CALSCALE:GREGORIAN
PRODID:-//Diputació de Barcelona//DibaCMS//EN
BEGIN:VEVENT
UID:9155
DTSTAMP:20260421T215006
DTSTART:20210714T200000
DTEND:20210714T211500
SUMMARY:Ioga a la natura 
LOCATION:
METHOD:PUBLISH
X-WR-CALNAME:vallgorguina@vallgorguina.cat
X-WR-TIMEZONE:Europe/Madrid
DESCRIPTION:
URI:https://www.vallgorguina.cat/actualitat/agenda/9155-ioga-a-la-natura-.html
CLASS:PUBLIC
END:VEVENT
END:VCALENDAR
