BEGIN:VCALENDAR
VERSION:2.0
CALSCALE:GREGORIAN
PRODID:-//Diputació de Barcelona//DibaCMS//EN
BEGIN:VEVENT
UID:9156
DTSTAMP:20260421T213315
DTSTART:20210719T200000
DTEND:20210719T211500
SUMMARY:Ioga a la natura  
LOCATION:
METHOD:PUBLISH
X-WR-CALNAME:vallgorguina@vallgorguina.cat
X-WR-TIMEZONE:Europe/Madrid
DESCRIPTION:
URI:https://www.vallgorguina.cat/actualitat/agenda/9156-ioga-a-la-natura-.html
CLASS:PUBLIC
END:VEVENT
END:VCALENDAR
