BEGIN:VCALENDAR
VERSION:2.0
CALSCALE:GREGORIAN
PRODID:-//Diputació de Barcelona//DibaCMS//EN
BEGIN:VEVENT
UID:9163
DTSTAMP:20260421T220926
DTSTART:20210731T220000
DTEND:20210731T235500
SUMMARY:Festa Major de Canadà Parc
LOCATION:
METHOD:PUBLISH
X-WR-CALNAME:vallgorguina@vallgorguina.cat
X-WR-TIMEZONE:Europe/Madrid
DESCRIPTION:
URI:https://www.vallgorguina.cat/actualitat/agenda/9163-festa-major-de-canada-parc.html
CLASS:PUBLIC
END:VEVENT
END:VCALENDAR
