BEGIN:VCALENDAR
VERSION:2.0
CALSCALE:GREGORIAN
PRODID:-//Diputació de Barcelona//DibaCMS//EN
BEGIN:VEVENT
UID:9164
DTSTAMP:20260421T235744
DTSTART:20210801T100000
DTEND:20210801T120000
SUMMARY:Festa Major de Canadà Parc 
LOCATION:
METHOD:PUBLISH
X-WR-CALNAME:vallgorguina@vallgorguina.cat
X-WR-TIMEZONE:Europe/Madrid
DESCRIPTION:
URI:https://www.vallgorguina.cat/actualitat/agenda/festa-major-de-canada-parc-.html
CLASS:PUBLIC
END:VEVENT
END:VCALENDAR
